BEGIN:VCALENDAR
PRODID:-//eluceo/ical//2.0/EN
VERSION:2.0
CALSCALE:GREGORIAN
BEGIN:VEVENT
UID:519ed2ee-60cb-40fd-b6f7-ab4dde831304
DTSTAMP:20260419T162530Z
SUMMARY:“XII Cumbre de los Servicios”
URL:https://www.eoi.es/es/eventos/86709/xii-cumbre-de-los-servicios
DTSTART:20190612T070000Z
DTEND:20190612T133000Z
LOCATION:Campus EOI Madrid
END:VEVENT
END:VCALENDAR
