BEGIN:VCALENDAR
PRODID:-//eluceo/ical//2.0/EN
VERSION:2.0
CALSCALE:GREGORIAN
BEGIN:VEVENT
UID:e2333c73-35c5-434b-91e9-6c5f9b6ff571
DTSTAMP:20260419T163703Z
SUMMARY:6ª sesión Club Blockchain EOI: “Smart Contracts: Workshop prác
 tico para desplegar un contrato”
URL:https://www.eoi.es/es/eventos/86693/6a-sesion-club-blockchain-eoi-smart
 -contracts-workshop-practico-para-desplegar-un-contrato
DTSTART:20190613T173000Z
DTEND:20190613T183500Z
LOCATION:Campus EOI Madrid 
END:VEVENT
END:VCALENDAR
