BEGIN:VCALENDAR
PRODID:-//eluceo/ical//2.0/EN
VERSION:2.0
CALSCALE:GREGORIAN
BEGIN:VEVENT
UID:e2a45334-5109-48fb-a602-4f5a68143770
DTSTAMP:20260420T052037Z
SUMMARY:Taller “UX/User Experience: principios básicos para los negocios
  digitales” (Coworking Málaga)
URL:https://www.eoi.es/es/eventos/86669/taller-uxuser-experience-principios
 -basicos-para-los-negocios-digitales-coworking-malaga
DTSTART:20190516T080000Z
DTEND:20190516T110000Z
LOCATION:Polo Contenidos Digitales. Edificio Tabacalera. Avda. Sor Teresa P
 rat\, 15. 29003 Málaga.
END:VEVENT
END:VCALENDAR
