BEGIN:VCALENDAR
PRODID:-//eluceo/ical//2.0/EN
VERSION:2.0
CALSCALE:GREGORIAN
BEGIN:VEVENT
UID:1a1524c3-32df-46ae-8562-1dc141b4916e
DTSTAMP:20260420T053613Z
SUMMARY:Taller "Blockchain y nuevos modelos de negocio digitales" (Murcia)
URL:https://www.eoi.es/es/eventos/86646/taller-blockchain-y-nuevos-modelos-
 de-negocio-digitales-murcia
DTSTART:20190521T080000Z
DTEND:20190521T110000Z
LOCATION:CEEIM Murcia. Campus Universitario de Espinardo\, 7. 30100 Espinar
 do (Murcia)
END:VEVENT
END:VCALENDAR
