BEGIN:VCALENDAR
PRODID:-//eluceo/ical//2.0/EN
VERSION:2.0
CALSCALE:GREGORIAN
BEGIN:VEVENT
UID:439680b4-519a-4da7-9f10-5b0fa4ee9863
DTSTAMP:20260420T144805Z
SUMMARY:DemoDay (Coworking EOI-Ayuntamiento de Santander) [4ª Edición]
URL:https://www.eoi.es/es/eventos/86625/demoday-coworking-eoi-ayuntamiento-
 de-santander-4a-edicion
DTSTART:20190507T144500Z
DTEND:20190507T173000Z
LOCATION:Paraninfo de La Magdalena\,  Avda. de La Reina Victoria s/n 39005 
 Santander
END:VEVENT
END:VCALENDAR
