BEGIN:VCALENDAR
PRODID:-//eluceo/ical//2.0/EN
VERSION:2.0
CALSCALE:GREGORIAN
BEGIN:VEVENT
UID:c79a2708-2816-4e48-96e0-d3a21f494de5
DTSTAMP:20260419T182611Z
SUMMARY:IV Encuentro Club Coaching EOI
URL:https://www.eoi.es/es/eventos/86623/iv-encuentro-club-coaching-eoi
DTSTART:20190425T170000Z
DTEND:20190425T183000Z
LOCATION:Campus EOI Madrid. Avda. Gregorio del Amo\, 6. 28040 Madrid
END:VEVENT
END:VCALENDAR
