BEGIN:VCALENDAR
PRODID:-//eluceo/ical//2.0/EN
VERSION:2.0
CALSCALE:GREGORIAN
BEGIN:VEVENT
UID:f49329af-d02b-4256-8453-71b4238b2635
DTSTAMP:20260421T151105Z
SUMMARY:Webinar “Metodologías Agiles utilizadas en proyectos tecnológic
 os frente a las metodologías tradicionales” (Online)
URL:https://www.eoi.es/es/eventos/86619/webinar-metodologias-agiles-utiliza
 das-en-proyectos-tecnologicos-frente-las-metodologias-tradicionales-online
DTSTART:20190409T160000Z
DTEND:20190409T170000Z
LOCATION:Online
END:VEVENT
END:VCALENDAR
