BEGIN:VCALENDAR
PRODID:-//eluceo/ical//2.0/EN
VERSION:2.0
CALSCALE:GREGORIAN
BEGIN:VEVENT
UID:86bec896-59e0-41bd-878e-4b6cad2d3914
DTSTAMP:20260421T151114Z
SUMMARY:5ª sesión Club Blockchain EOI: “Criptoactivos: un nuevo mercado
 \, una nueva regulación”
URL:https://www.eoi.es/es/eventos/86584/5a-sesion-club-blockchain-eoi-cript
 oactivos-un-nuevo-mercado-una-nueva-regulacion
DTSTART:20190404T173000Z
DTEND:20190404T183000Z
LOCATION:Campus EOI Madrid 
END:VEVENT
END:VCALENDAR
