BEGIN:VCALENDAR
PRODID:-//eluceo/ical//2.0/EN
VERSION:2.0
CALSCALE:GREGORIAN
BEGIN:VEVENT
UID:4cf5e7e2-135a-48b4-bfcf-43847f4f9fc2
DTSTAMP:20260419T182610Z
SUMMARY:III Encuentro Club Coaching EOI
URL:https://www.eoi.es/es/eventos/86583/iii-encuentro-club-coaching-eoi
DTSTART:20190321T180000Z
DTEND:20190321T193000Z
LOCATION:Campus EOI Madrid. Avda. Gregorio del Amo\, 6. 28040 Madrid
END:VEVENT
END:VCALENDAR
