BEGIN:VCALENDAR
PRODID:-//eluceo/ical//2.0/EN
VERSION:2.0
CALSCALE:GREGORIAN
BEGIN:VEVENT
UID:3544f456-7655-4889-9b06-03f9f1229327
DTSTAMP:20260421T133610Z
SUMMARY:Taller "Cómo gestionar mis habilidades y competencias"
URL:https://www.eoi.es/es/eventos/86549/taller-como-gestionar-mis-habilidad
 es-y-competencias
DTSTART:20190325T170000Z
DTEND:20190325T200000Z
LOCATION:Campus EOI Madrid. Avda. Gregorio del Amo\, 6. 28040 Madrid
END:VEVENT
END:VCALENDAR
