BEGIN:VCALENDAR
PRODID:-//eluceo/ical//2.0/EN
VERSION:2.0
CALSCALE:GREGORIAN
BEGIN:VEVENT
UID:a3abe484-ad8c-4008-bef6-a05604b4c993
DTSTAMP:20260421T133219Z
SUMMARY:Taller "La entrevista de trabajo"
URL:https://www.eoi.es/es/eventos/86548/taller-la-entrevista-de-trabajo
DTSTART:20190318T170000Z
DTEND:20190318T200000Z
LOCATION:Campus EOI Madrid. Avda. Gregorio del Amo\, 6. 28040 Madrid
END:VEVENT
END:VCALENDAR
