BEGIN:VCALENDAR
PRODID:-//eluceo/ical//2.0/EN
VERSION:2.0
CALSCALE:GREGORIAN
BEGIN:VEVENT
UID:1e2f4e88-3a73-4dff-8d78-fae308e84082
DTSTAMP:20260419T182610Z
SUMMARY:II Encuentro Club Coaching EOI
URL:https://www.eoi.es/es/eventos/86531/ii-encuentro-club-coaching-eoi
DTSTART:20190124T180000Z
DTEND:20190124T193000Z
LOCATION:Campus EOI Madrid. Avda. Gregorio del Amo\, 6. 28040 Madrid
END:VEVENT
END:VCALENDAR
