BEGIN:VCALENDAR
PRODID:-//eluceo/ical//2.0/EN
VERSION:2.0
CALSCALE:GREGORIAN
BEGIN:VEVENT
UID:4e133b98-8215-4269-bd4b-5ad819043ec7
DTSTAMP:20260421T160524Z
SUMMARY:Transformación Digital y Empleo Joven “El Futuro del Empleo”
URL:https://www.eoi.es/es/eventos/86505/transformacion-digital-y-empleo-jov
 en-el-futuro-del-empleo
DTSTART:20181213T100000Z
DTEND:20181213T123000Z
LOCATION:Campus EOI Madrid. Avda. Gregorio del Amo\, 6. 28040 Madrid
END:VEVENT
END:VCALENDAR
