BEGIN:VCALENDAR
PRODID:-//eluceo/ical//2.0/EN
VERSION:2.0
CALSCALE:GREGORIAN
BEGIN:VEVENT
UID:3ee6ee5a-e00b-4d4e-8f60-4ab58561b938
DTSTAMP:20260421T151150Z
SUMMARY:Digital Xperiences
URL:https://www.eoi.es/es/eventos/86484/digital-xperiences
DTSTART:20181128T180000Z
DTEND:20181128T190000Z
LOCATION:Campus EOI Madrid. Avda. Gregorio del Amo\, 6. 28040 Madrid
END:VEVENT
END:VCALENDAR
