BEGIN:VCALENDAR
PRODID:-//eluceo/ical//2.0/EN
VERSION:2.0
CALSCALE:GREGORIAN
BEGIN:VEVENT
UID:6505f93a-d103-40a7-a8e5-39ec239f0a59
DTSTAMP:20260421T151151Z
SUMMARY:Jornada “Mediación y Arbitraje en Propiedad Industrial: ¿la OEP
 M como institución mediadora y arbitral?"
URL:https://www.eoi.es/es/eventos/86475/jornada-mediacion-y-arbitraje-en-pr
 opiedad-industrial-la-oepm-como-institucion-mediadora-y-arbitral
DTSTART:20181126T150000Z
DTEND:20181126T164500Z
LOCATION:Campus EOI Madrid. Avda. Gregorio del Amo\, 6. 28040 Madrid
END:VEVENT
END:VCALENDAR
