BEGIN:VCALENDAR
PRODID:-//eluceo/ical//2.0/EN
VERSION:2.0
CALSCALE:GREGORIAN
BEGIN:VEVENT
UID:15c54359-aa44-41d3-8fd4-53bed21e402d
DTSTAMP:20260421T160529Z
SUMMARY:9ª Sesión Observatorio EOI: El proteccionismo de Trump y sus efec
 tos
URL:https://www.eoi.es/es/eventos/86472/9a-sesion-observatorio-eoi-el-prote
 ccionismo-de-trump-y-sus-efectos
DTSTART:20181213T180000Z
DTEND:20181213T193000Z
LOCATION:Campus EOI Madrid. Avda. Gregorio del Amo\, 6. 28040 Madrid
END:VEVENT
END:VCALENDAR
