BEGIN:VCALENDAR
PRODID:-//eluceo/ical//2.0/EN
VERSION:2.0
CALSCALE:GREGORIAN
BEGIN:VEVENT
UID:6319f082-d071-4a58-952e-114feedaf1c6
DTSTAMP:20260423T192818Z
SUMMARY:Jornada de Presentación del Club de Crecimiento Empresarial (Mála
 ga)
URL:https://www.eoi.es/es/eventos/86464/jornada-de-presentacion-del-club-de
 -crecimiento-empresarial-malaga
DTSTART:20181112T170000Z
DTEND:20181112T180000Z
LOCATION:Cámara de Comercio de Málaga. C/Cortina del Muelle\, 23. 29015 M
 álaga
END:VEVENT
END:VCALENDAR
