BEGIN:VCALENDAR
PRODID:-//eluceo/ical//2.0/EN
VERSION:2.0
CALSCALE:GREGORIAN
BEGIN:VEVENT
UID:80324942-052b-433d-ae8d-697e18407af2
DTSTAMP:20260421T151105Z
SUMMARY:Taller "Comunica tu Startups en los Medios" (Coworking EOI Madrid)
URL:https://www.eoi.es/es/eventos/86449/taller-comunica-tu-startups-en-los-
 medios-coworking-eoi-madrid
DTSTART:20181204T150000Z
DTEND:20181204T180000Z
LOCATION:Campus EOI Madrid. Avda. Gregorio del Amo\, 6. 28040 Madrid
END:VEVENT
END:VCALENDAR
