BEGIN:VCALENDAR
PRODID:-//eluceo/ical//2.0/EN
VERSION:2.0
CALSCALE:GREGORIAN
BEGIN:VEVENT
UID:810b8f6c-2f1a-41d5-80ef-a4c459526c19
DTSTAMP:20260421T151113Z
SUMMARY:Taller de Métricas (Coworking EOI Madrid)
URL:https://www.eoi.es/es/eventos/86448/taller-de-metricas-coworking-eoi-ma
 drid
DTSTART:20181023T140000Z
DTEND:20181023T190000Z
LOCATION:Campus EOI Madrid. Avda. Gregorio del Amo\, 6. 28040 Madrid
END:VEVENT
END:VCALENDAR
