BEGIN:VCALENDAR
PRODID:-//eluceo/ical//2.0/EN
VERSION:2.0
CALSCALE:GREGORIAN
BEGIN:VEVENT
UID:9d29bf79-98f9-4247-b8c9-d5606f7356af
DTSTAMP:20260421T145352Z
SUMMARY:Digital Xperiences
URL:https://www.eoi.es/es/eventos/86443/digital-xperiences
DTSTART:20181030T180000Z
DTEND:20181030T190000Z
LOCATION:Campus EOI Madrid. Avda. Gregorio del Amo\, 6. 28040 Madrid
END:VEVENT
END:VCALENDAR
