BEGIN:VCALENDAR
PRODID:-//eluceo/ical//2.0/EN
VERSION:2.0
CALSCALE:GREGORIAN
BEGIN:VEVENT
UID:1b726a08-33da-4d35-b140-46beee726141
DTSTAMP:20260421T151819Z
SUMMARY:1ª Sesión del Club Blockchain EOI: "Blockchain\, Innovación en R
 eal Estate"
URL:https://www.eoi.es/es/eventos/86438/1a-sesion-del-club-blockchain-eoi-b
 lockchain-innovacion-en-real-estate
DTSTART:20181031T180000Z
DTEND:20181031T200000Z
LOCATION:Campus EOI Madrid. Avda. Gregorio del Amo\, 6. 28040 Madrid
END:VEVENT
END:VCALENDAR
