BEGIN:VCALENDAR
PRODID:-//eluceo/ical//2.0/EN
VERSION:2.0
CALSCALE:GREGORIAN
BEGIN:VEVENT
UID:1bfa08fd-11e6-4cd5-bf31-234330b49cfe
DTSTAMP:20260421T150756Z
SUMMARY:Webinar: Social Commerce (Online)
URL:https://www.eoi.es/es/eventos/86428/webinar-social-commerce-online
DTSTART:20181107T173000Z
DTEND:20181107T190000Z
LOCATION:Online
END:VEVENT
END:VCALENDAR
