BEGIN:VCALENDAR
PRODID:-//eluceo/ical//2.0/EN
VERSION:2.0
CALSCALE:GREGORIAN
BEGIN:VEVENT
UID:fa6cc2ee-f334-47cc-8501-70e432ee039c
DTSTAMP:20260421T151217Z
SUMMARY:Encuentro Anual Antiguos Alumnos EOI 2018
URL:https://www.eoi.es/es/eventos/86426/encuentro-anual-antiguos-alumnos-eo
 i-2018
DTSTART:20181115T183000Z
DTEND:20181115T210000Z
LOCATION:Cines Capitol. Calle Gran Vía\, 41. 28013 Madrid
END:VEVENT
END:VCALENDAR
