BEGIN:VCALENDAR
PRODID:-//eluceo/ical//2.0/EN
VERSION:2.0
CALSCALE:GREGORIAN
BEGIN:VEVENT
UID:b7ea831f-17b7-4a1c-8628-c259bd7ca48d
DTSTAMP:20260424T205710Z
SUMMARY:Taller "Presentaciones Creativas: las Claves de una Presentación q
 ue Deja Huella" (Málaga)
URL:https://www.eoi.es/es/eventos/86411/taller-presentaciones-creativas-las
 -claves-de-una-presentacion-que-deja-huella-malaga
DTSTART:20181022T073000Z
DTEND:20181022T123000Z
LOCATION:Instituto de Estudios Portuarios. Muelle Cánovas s/n. Málaga
END:VEVENT
END:VCALENDAR
