BEGIN:VCALENDAR
PRODID:-//eluceo/ical//2.0/EN
VERSION:2.0
CALSCALE:GREGORIAN
BEGIN:VEVENT
UID:169f8bb0-fa7e-42e6-8642-7e43aff8ce75
DTSTAMP:20260421T162000Z
SUMMARY:Presentación II Edición de Lánzate
URL:https://www.eoi.es/es/eventos/86409/presentacion-ii-edicion-de-lanzate
DTSTART:20181011T093000Z
DTEND:20181011T110000Z
LOCATION:Campus EOI Madrid. Avda. Gregorio del Amo\, 6. 28040 Madrid
END:VEVENT
END:VCALENDAR
