BEGIN:VCALENDAR
PRODID:-//eluceo/ical//2.0/EN
VERSION:2.0
CALSCALE:GREGORIAN
BEGIN:VEVENT
UID:8d2d9401-dea2-4b6e-bd7c-2eeb39f7b455
DTSTAMP:20260423T224116Z
SUMMARY:Taller "Obtén el máximo rendimiento de las redes sociales para tu
  startup" (Coworking Madrid)
URL:https://www.eoi.es/es/eventos/86387/taller-obten-el-maximo-rendimiento-
 de-las-redes-sociales-para-tu-startup-coworking-madrid
DTSTART:20180925T140000Z
DTEND:20180925T180000Z
LOCATION:Campus EOI Madrid. Avda. Gregorio del Amo\, 6. 28040 Madrid
END:VEVENT
END:VCALENDAR
