BEGIN:VCALENDAR
PRODID:-//eluceo/ical//2.0/EN
VERSION:2.0
CALSCALE:GREGORIAN
BEGIN:VEVENT
UID:7864447d-e7d2-46eb-aa1d-8387cad143ad
DTSTAMP:20260421T151035Z
SUMMARY:8ª sesión Observatorio EOI: La Revolución 4.0 ¿Cómo Afecta al 
 Mercado de Trabajo?
URL:https://www.eoi.es/es/eventos/86385/8a-sesion-observatorio-eoi-la-revol
 ucion-40-como-afecta-al-mercado-de-trabajo
DTSTART:20181025T170000Z
DTEND:20181025T180000Z
LOCATION:Campus EOI Madrid. Avda. Gregorio del Amo\, 6. 28040 Madrid
END:VEVENT
END:VCALENDAR
