BEGIN:VCALENDAR
PRODID:-//eluceo/ical//2.0/EN
VERSION:2.0
CALSCALE:GREGORIAN
BEGIN:VEVENT
UID:e30a386c-728b-4bbe-b1fc-b12d8ecd1efc
DTSTAMP:20260423T193841Z
SUMMARY:Jornada de Presentación del Club de Crecimiento Empresarial (Alica
 nte)
URL:https://www.eoi.es/es/eventos/86373/jornada-de-presentacion-del-club-de
 -crecimiento-empresarial-alicante
DTSTART:20180925T160000Z
DTEND:20180925T170000Z
LOCATION:ULAB. Plaza San Cristóbal\, 14. Alicante
END:VEVENT
END:VCALENDAR
