BEGIN:VCALENDAR
PRODID:-//eluceo/ical//2.0/EN
VERSION:2.0
CALSCALE:GREGORIAN
BEGIN:VEVENT
UID:52e78819-c245-4afb-a269-95b985c8a165
DTSTAMP:20260421T162000Z
SUMMARY:Ponencia: Planeación estratégica desde el modelo de liderazgo VET
 A
URL:https://www.eoi.es/es/eventos/86372/ponencia-planeacion-estrategica-des
 de-el-modelo-de-liderazgo-veta
DTSTART:20180920T173000Z
DTEND:20180920T183000Z
LOCATION:Campus EOI Madrid. Avda. Gregorio del Amo\, 6. 28040 Madrid
END:VEVENT
END:VCALENDAR
