BEGIN:VCALENDAR
PRODID:-//eluceo/ical//2.0/EN
VERSION:2.0
CALSCALE:GREGORIAN
BEGIN:VEVENT
UID:28efd747-7033-4f95-98b5-119a218301a9
DTSTAMP:20260421T175658Z
SUMMARY:EOI con la #Agenda 2030. Casos de Éxito en Economía Circular
URL:https://www.eoi.es/es/eventos/86362/eoi-con-la-agenda-2030-casos-de-exi
 to-en-economia-circular
DTSTART:20180913T163000Z
DTEND:20180913T180000Z
LOCATION:EOI Madrid
END:VEVENT
END:VCALENDAR
