BEGIN:VCALENDAR
PRODID:-//eluceo/ical//2.0/EN
VERSION:2.0
CALSCALE:GREGORIAN
BEGIN:VEVENT
UID:d58d565b-9c75-4d3c-b23b-7e93cd8f24f5
DTSTAMP:20260421T162107Z
SUMMARY:Webinar "Adopción de Scrum" (Online)
URL:https://www.eoi.es/es/eventos/86361/webinar-adopcion-de-scrum-online
DTSTART:20180926T170000Z
DTEND:20180926T183000Z
LOCATION:Online
END:VEVENT
END:VCALENDAR
