BEGIN:VCALENDAR
PRODID:-//eluceo/ical//2.0/EN
VERSION:2.0
CALSCALE:GREGORIAN
BEGIN:VEVENT
UID:6762ddbc-931d-475f-8b2e-ee0e47d073ca
DTSTAMP:20260421T164206Z
SUMMARY:Webinar "Realizar una Cuenta de Resultados Analítica: Estudiar Ren
 tabilidades por Líneas de Negocio" (Online)
URL:https://www.eoi.es/es/eventos/86360/webinar-realizar-una-cuenta-de-resu
 ltados-analitica-estudiar-rentabilidades-por-lineas-de-negocio-online
DTSTART:20181002T150000Z
DTEND:20181002T170000Z
LOCATION:Online
END:VEVENT
END:VCALENDAR
