BEGIN:VCALENDAR
PRODID:-//eluceo/ical//2.0/EN
VERSION:2.0
CALSCALE:GREGORIAN
BEGIN:VEVENT
UID:6ba45244-3e31-4992-b27e-dad8914202a1
DTSTAMP:20260421T162108Z
SUMMARY:Webinar sobre Innovación (Online)
URL:https://www.eoi.es/es/eventos/86358/webinar-sobre-innovacion-online
DTSTART:20180925T150000Z
DTEND:20180925T170000Z
LOCATION:Online
END:VEVENT
END:VCALENDAR
