BEGIN:VCALENDAR
PRODID:-//eluceo/ical//2.0/EN
VERSION:2.0
CALSCALE:GREGORIAN
BEGIN:VEVENT
UID:3f8f3951-70dd-4913-8bd4-45df746a8cb2
DTSTAMP:20260421T162108Z
SUMMARY:Webinar: Cuatro Retos del Sector TIC ante la Revolución Digital (O
 nline)
URL:https://www.eoi.es/es/eventos/86346/webinar-cuatro-retos-del-sector-tic
 -ante-la-revolucion-digital-online
DTSTART:20180726T070000Z
DTEND:20180726T083000Z
LOCATION:Online
END:VEVENT
END:VCALENDAR
