BEGIN:VCALENDAR
PRODID:-//eluceo/ical//2.0/EN
VERSION:2.0
CALSCALE:GREGORIAN
BEGIN:VEVENT
UID:5cd44aee-475e-4006-a17e-9436d0cf4549
DTSTAMP:20260421T160438Z
SUMMARY:Taller: "Experiencia de Usuario" (Coworking Alcobendas)
URL:https://www.eoi.es/es/eventos/86344/taller-experiencia-de-usuario-cowor
 king-alcobendas
DTSTART:20180723T143000Z
DTEND:20180723T183000Z
LOCATION:Espacio Coworking Alcobendas Calle de Soria\, 43\, 28100 Alcobenda
 s\, Madrid
END:VEVENT
END:VCALENDAR
