BEGIN:VCALENDAR
PRODID:-//eluceo/ical//2.0/EN
VERSION:2.0
CALSCALE:GREGORIAN
BEGIN:VEVENT
UID:7a6306d5-3df3-49c7-8eb7-487ab4d55aba
DTSTAMP:20260421T151035Z
SUMMARY:Taller "Productividad y Optimización del Tiempo" (Coworking Madrid
 )
URL:https://www.eoi.es/es/eventos/86334/taller-productividad-y-optimizacion
 -del-tiempo-coworking-madrid
DTSTART:20181127T150000Z
DTEND:20181127T190000Z
LOCATION:Coworking Sede EOI\, MADRID Avda. Gregorio del Amo\, Nº 6 28040 M
 adrid Madrid
END:VEVENT
END:VCALENDAR
