BEGIN:VCALENDAR
PRODID:-//eluceo/ical//2.0/EN
VERSION:2.0
CALSCALE:GREGORIAN
BEGIN:VEVENT
UID:44584c69-d669-4ddf-b0ae-f8baf85ad634
DTSTAMP:20260421T160413Z
SUMMARY:Acto de Clausura y Entrega de Diplomas Curso Académico 2017/2018
URL:https://www.eoi.es/es/eventos/86331/acto-de-clausura-y-entrega-de-diplo
 mas-curso-academico-20172018
DTSTART:20180719T173000Z
DTEND:20180719T203000Z
LOCATION:Campus EOI Madrid. Avda. Gregorio del Amo\, 6. 28040 Madrid
END:VEVENT
END:VCALENDAR
