BEGIN:VCALENDAR
PRODID:-//eluceo/ical//2.0/EN
VERSION:2.0
CALSCALE:GREGORIAN
BEGIN:VEVENT
UID:0a938de5-448e-4f9d-a2f0-8908cc08673e
DTSTAMP:20260421T160525Z
SUMMARY:Webinar: Reorganización Comercial (Online)
URL:https://www.eoi.es/es/eventos/86323/webinar-reorganizacion-comercial-on
 line
DTSTART:20180710T150000Z
DTEND:20180710T170000Z
LOCATION:Online
END:VEVENT
END:VCALENDAR
