BEGIN:VCALENDAR
PRODID:-//eluceo/ical//2.0/EN
VERSION:2.0
CALSCALE:GREGORIAN
BEGIN:VEVENT
UID:fff15e83-e0c9-42ee-9720-87658ba3f8ef
DTSTAMP:20260421T161309Z
SUMMARY:Taller: "Marketing y Comunicación en la Venta" (Coworking Alcobend
 as)
URL:https://www.eoi.es/es/eventos/86319/taller-marketing-y-comunicacion-en-
 la-venta-coworking-alcobendas
DTSTART:20180716T143000Z
DTEND:20180716T183000Z
LOCATION:Espacio Coworking Alcobendas Calle de Soria\, 43\, 28100 Alcobenda
 s\, Madrid
END:VEVENT
END:VCALENDAR
