BEGIN:VCALENDAR
PRODID:-//eluceo/ical//2.0/EN
VERSION:2.0
CALSCALE:GREGORIAN
BEGIN:VEVENT
UID:68d2721f-2363-4d2c-b382-ddf5e31965d8
DTSTAMP:20260422T184253Z
SUMMARY:Jornada: Experiencias Emprendedoras (Coworking Santander)
URL:https://www.eoi.es/es/eventos/86308/jornada-experiencias-emprendedoras-
 coworking-santander
DTSTART:20180710T153000Z
DTEND:20180710T183000Z
LOCATION:CEOE-CEPYME. C/Tres de noviembre. Santander
END:VEVENT
END:VCALENDAR
