BEGIN:VCALENDAR
PRODID:-//eluceo/ical//2.0/EN
VERSION:2.0
CALSCALE:GREGORIAN
BEGIN:VEVENT
UID:55ad3d10-4e82-4632-8d61-24cb71f815b2
DTSTAMP:20260421T160524Z
SUMMARY:Seis Generaciones de Gestores del Cambio
URL:https://www.eoi.es/es/eventos/86304/seis-generaciones-de-gestores-del-c
 ambio
DTSTART:20180627T173000Z
DTEND:20180627T183000Z
LOCATION:Campus EOI Madrid. Avda. Gregorio del Amo\, 6. 28040 Madrid
END:VEVENT
END:VCALENDAR
