BEGIN:VCALENDAR
PRODID:-//eluceo/ical//2.0/EN
VERSION:2.0
CALSCALE:GREGORIAN
BEGIN:VEVENT
UID:28de4581-1a20-464e-ad38-e116989c6e39
DTSTAMP:20260421T160437Z
SUMMARY:Webinar: Gestión del Tiempo (Online)
URL:https://www.eoi.es/es/eventos/86287/webinar-gestion-del-tiempo-online
DTSTART:20180626T150000Z
DTEND:20180626T160000Z
LOCATION:Online (hora española)
END:VEVENT
END:VCALENDAR
