BEGIN:VCALENDAR
PRODID:-//eluceo/ical//2.0/EN
VERSION:2.0
CALSCALE:GREGORIAN
BEGIN:VEVENT
UID:cff3e09f-bd8d-4999-a9fc-a2070cd5eeeb
DTSTAMP:20260421T162109Z
SUMMARY:Webinar: Realizar una cuenta de resultados analítica (estudiar ren
 tabilidades por líneas de negocio)
URL:https://www.eoi.es/es/eventos/86286/webinar-realizar-una-cuenta-de-resu
 ltados-analitica-estudiar-rentabilidades-por-lineas-de-negocio
DTSTART:20180612T150000Z
DTEND:20180612T160000Z
LOCATION:Online
END:VEVENT
END:VCALENDAR
