BEGIN:VCALENDAR
PRODID:-//eluceo/ical//2.0/EN
VERSION:2.0
CALSCALE:GREGORIAN
BEGIN:VEVENT
UID:096d7f99-60b0-41cc-866c-ce098df4617c
DTSTAMP:20260421T160438Z
SUMMARY:Webinar: Cómo incrementar ventas con los clientes actuales
URL:https://www.eoi.es/es/eventos/86280/webinar-como-incrementar-ventas-con
 -los-clientes-actuales
DTSTART:20180605T150000Z
DTEND:20180605T160000Z
LOCATION:Online
END:VEVENT
END:VCALENDAR
