BEGIN:VCALENDAR
PRODID:-//eluceo/ical//2.0/EN
VERSION:2.0
CALSCALE:GREGORIAN
BEGIN:VEVENT
UID:5e8ba60e-f5cc-4679-aa8d-e494a2282d39
DTSTAMP:20260421T160530Z
SUMMARY:Demo Day: Impulsa tu Proyecto Emprendedor hacia el Éxito  (Coworki
 ng EOI Madrid)
URL:https://www.eoi.es/es/eventos/86274/demo-day-impulsa-tu-proyecto-empren
 dedor-hacia-el-exito-coworking-eoi-madrid
DTSTART:20180612T160000Z
DTEND:20180612T193000Z
LOCATION:Espacio Coworking EOI Madrid. Avda. Gregorio del Amo\, 6. 28040 Ma
 drid
END:VEVENT
END:VCALENDAR
