BEGIN:VCALENDAR
PRODID:-//eluceo/ical//2.0/EN
VERSION:2.0
CALSCALE:GREGORIAN
BEGIN:VEVENT
UID:11eeb86d-e4eb-4978-8488-04682a3efafb
DTSTAMP:20260421T173337Z
SUMMARY:Mesa Redonda: “RSE como Elemento Estratégico”
URL:https://www.eoi.es/es/eventos/86272/mesa-redonda-rse-como-elemento-estr
 ategico
DTSTART:20180604T143000Z
DTEND:20180604T160000Z
LOCATION:Campus EOI Madrid. Avda. Gregorio del Amo\, 6. 28040 Madrid
END:VEVENT
END:VCALENDAR
