BEGIN:VCALENDAR
PRODID:-//eluceo/ical//2.0/EN
VERSION:2.0
CALSCALE:GREGORIAN
BEGIN:VEVENT
UID:a1d3f615-743f-4a01-9eae-810aadfafe1f
DTSTAMP:20260421T160412Z
SUMMARY:Webinar Motivación y Liderazgo
URL:https://www.eoi.es/es/eventos/86270/webinar-motivacion-y-liderazgo
DTSTART:20180529T150000Z
DTEND:20180529T150000Z
LOCATION:Online
END:VEVENT
END:VCALENDAR
