BEGIN:VCALENDAR
PRODID:-//eluceo/ical//2.0/EN
VERSION:2.0
CALSCALE:GREGORIAN
BEGIN:VEVENT
UID:ae2f4434-14d3-4c81-b7e9-f9a0f2948a17
DTSTAMP:20260421T173528Z
SUMMARY:Jornada y Taller Práctico "Experiencias de Adaptación al Cambio C
 limático"
URL:https://www.eoi.es/es/eventos/86269/jornada-y-taller-practico-experienc
 ias-de-adaptacion-al-cambio-climatico
DTSTART:20180531T071500Z
DTEND:20180531T153000Z
LOCATION:Campus EOI Madrid. Avda. Gregorio del Amo\, 6. 28040 Madrid
END:VEVENT
END:VCALENDAR
