BEGIN:VCALENDAR
PRODID:-//eluceo/ical//2.0/EN
VERSION:2.0
CALSCALE:GREGORIAN
BEGIN:VEVENT
UID:d58727ab-c224-47f2-a05f-a571e815fc39
DTSTAMP:20260421T173424Z
SUMMARY:Reunión Anual Programas Europeos EOI (Madrid)
URL:https://www.eoi.es/es/eventos/86258/reunion-anual-programas-europeos-eo
 i-madrid
DTSTART:20180517T073000Z
DTEND:20180517T120000Z
LOCATION:Campus EOI Madrid. Avda. Gregorio del Amo\, 6. 28040 Madrid
END:VEVENT
END:VCALENDAR
