BEGIN:VCALENDAR
PRODID:-//eluceo/ical//2.0/EN
VERSION:2.0
CALSCALE:GREGORIAN
BEGIN:VEVENT
UID:0b2402a7-6173-4a14-bc03-8759943e7b97
DTSTAMP:20260421T173419Z
SUMMARY:Convocatoria de Asamblea General Ordinaria de la Asociación de Ant
 iguos Alumnos-Club EOI
URL:https://www.eoi.es/es/eventos/86256/convocatoria-de-asamblea-general-or
 dinaria-de-la-asociacion-de-antiguos-alumnos-club-eoi
DTSTART:20180524T150000Z
DTEND:20180524T150000Z
LOCATION:Campus EOI Madrid. Avda. Gregorio del Amo\, 6. 28040 Madrid
END:VEVENT
END:VCALENDAR
